BEGIN:VCALENDAR
VERSION:2.0
PRODID:-//JCC WA | Jewish Community Council of Western Australia - ECPv6.15.17//NONSGML v1.0//EN
CALSCALE:GREGORIAN
METHOD:PUBLISH
X-ORIGINAL-URL:https://jccwa.org.au
X-WR-CALDESC:Events for JCC WA | Jewish Community Council of Western Australia
REFRESH-INTERVAL;VALUE=DURATION:PT1H
X-Robots-Tag:noindex
X-PUBLISHED-TTL:PT1H
BEGIN:VTIMEZONE
TZID:UTC
BEGIN:STANDARD
TZOFFSETFROM:+0000
TZOFFSETTO:+0000
TZNAME:UTC
DTSTART:20250101T000000
END:STANDARD
END:VTIMEZONE
BEGIN:VEVENT
DTSTART;TZID=UTC:20260208T080000
DTEND;TZID=UTC:20260208T170000
DTSTAMP:20260421T140046
CREATED:20260109T025923Z
LAST-MODIFIED:20260109T030130Z
UID:25577-1770537600-1770570000@jccwa.org.au
SUMMARY:JNF Green Sunday
DESCRIPTION:Volunteer today for Israel’s tomorrow
URL:https://jccwa.org.au/event/jnf-green-sunday/
LOCATION:Perth\, Perth\, Australia
ATTACH;FMTTYPE=image/jpeg:https://jccwa.org.au/wp-content/uploads/2026/01/JNF-event-Feb-8-2026.jpg
END:VEVENT
BEGIN:VEVENT
DTSTART;TZID=UTC:20260208T190000
DTEND;TZID=UTC:20260208T210000
DTSTAMP:20260421T140046
CREATED:20260204T020837Z
LAST-MODIFIED:20260204T021113Z
UID:25592-1770577200-1770584400@jccwa.org.au
SUMMARY:SZC New Country\, New Options
DESCRIPTION:Join for a zoom Q&A session on how to keep or reinvent your career in Israel with Maya Shofel\, career consultant & placement specialist
URL:https://jccwa.org.au/event/szc-new-country-new-options/
LOCATION:Perth\, Perth\, Australia
ATTACH;FMTTYPE=image/jpeg:https://jccwa.org.au/wp-content/uploads/2026/02/SZF-8-Feb-2026.jpeg
ORGANIZER;CN="State Zionist Council of WA":MAILTO:office@szcwa.com.au
END:VEVENT
BEGIN:VEVENT
DTSTART;TZID=UTC:20260226T183000
DTEND;TZID=UTC:20260226T213000
DTSTAMP:20260421T140046
CREATED:20260205T045344Z
LAST-MODIFIED:20260205T045344Z
UID:25627-1772130600-1772141400@jccwa.org.au
SUMMARY:UIA 2026 Gala
DESCRIPTION:United Israel and Australia – One People. One Heart. Standing Together.\nWith pride\, we announce our headline speaker – Ron Dermer\, Former Minister of Strategic Affairs of Israel and one of the most influential figures in shaping Israel-U.S. relations over the past decade. \nDermer has long been viewed as the key insider conduit between the Israeli and U.S. administrations—shaping Israel’s foreign policy over the past decade more than perhaps any other individual. He played a pivotal role in aligning Israeli–U.S. policy\, serving as the only Israeli official in the room with President Trump during discussions on post-war plans for Gaza\, and was instrumental in accelerating the path toward the Abraham Accords. Most critically\, in 2025 he was entrusted with leading Israel’s negotiations for the release of hostages—one of the most sensitive\, morally complex\, and consequential missions facing the country. It is therefore fitting that Dermer joins us at this historic moment of collective rebuilding\, as Israel looks toward securing its future. \nJoining Dermer is Michal Uziyahu – Mayor of the Eshkol Regional Council. Michal is no stranger to UIA\, visiting immediately after October 7 to urgently call for support for her devastated communities – enabling critical rehabilitation and community resilience programs on the ground. Michal returns to share firsthand how UIA’s support helped her region begin to heal and how ironically Israel now is able to ‘give back’ and support our community\, as well as why the rest of Israel now needs that same unwavering commitment as the nation enters its long-term rebuilding. \nWHEN\nThursday 26 February \n6:30pm Doors open\n7:15pm Formalities commence \nWHERE\nVenue to be advised a few days prior to the event \nCOST\n$36 Earlybird until 5 February and then $54. \nTickets are non transferable and non refundable. \nThis is a fundraising event. The ticket cost is not a donation. Funds raised at this event will enable United Israel Appeal (UIA) to continue its 105-year mission.
URL:https://jccwa.org.au/event/uia-2026-gala/
LOCATION:Perth\, Perth\, Australia
ATTACH;FMTTYPE=image/png:https://jccwa.org.au/wp-content/uploads/2026/02/UIA-2026-Gala.png
ORGANIZER;CN="UIA WA":MAILTO:info@uiawa.org.au
END:VEVENT
BEGIN:VEVENT
DTSTART;TZID=UTC:20260228T200000
DTEND;TZID=UTC:20260228T230000
DTSTAMP:20260421T140046
CREATED:20260115T060457Z
LAST-MODIFIED:20260115T060457Z
UID:25582-1772308800-1772319600@jccwa.org.au
SUMMARY:Royal Purim Ball 2026
DESCRIPTION:Hosted by His Majesty Achashverosh\, King of Persia (and the UIA) \nStep into the palace of Shushan for a Purim celebration like no other. This year\, the King is pulling out all the stops and enough royal chaos to make history. \nWhether you arrive as royalty\, a rebel\, or something completely unhinged\, prepare for a night of Persian glamour\, festive mischief\, and non-stop dancing shannanigans. \nYour Ticket Includes: \n\nFreo pizza are bringing their pizza oven to dish out their delicious Kosher pizza\n1 Alcoholic Beverage + Unlimited Soft Drink\nHuge Costume Contest – Prizes fit for royalty — bring your A-game.\nDJ with Live on DJ Music Performance\nAnd much\, MUCH more…\n\nExpect high-energy dancing\, bass that shakes the palace\, and a show the King personally approved. Surprises\, special moments\, and royal drama guaranteed. \nSo secure your ticket\, prepare your costume\, get the babysitter booked and show up for the most unforgettable Purim party in Shushan (AKA Perth). The King expects your presence — don’t make him send the royal guards.
URL:https://jccwa.org.au/event/royal-purim-ball-2026/
LOCATION:Perth\, Perth\, Australia
ATTACH;FMTTYPE=image/jpeg:https://jccwa.org.au/wp-content/uploads/2026/01/Purim-2026.jpeg
ORGANIZER;CN="UIA WA":MAILTO:info@uiawa.org.au
END:VEVENT
END:VCALENDAR