BEGIN:VCALENDAR
VERSION:2.0
PRODID:-//JCC WA | Jewish Community Council of Western Australia - ECPv6.15.17//NONSGML v1.0//EN
CALSCALE:GREGORIAN
METHOD:PUBLISH
X-WR-CALNAME:JCC WA | Jewish Community Council of Western Australia
X-ORIGINAL-URL:https://jccwa.org.au
X-WR-CALDESC:Events for JCC WA | Jewish Community Council of Western Australia
REFRESH-INTERVAL;VALUE=DURATION:PT1H
X-Robots-Tag:noindex
X-PUBLISHED-TTL:PT1H
BEGIN:VTIMEZONE
TZID:UTC
BEGIN:STANDARD
TZOFFSETFROM:+0000
TZOFFSETTO:+0000
TZNAME:UTC
DTSTART:20250101T000000
END:STANDARD
END:VTIMEZONE
BEGIN:VEVENT
DTSTART;TZID=UTC:20260208T080000
DTEND;TZID=UTC:20260208T170000
DTSTAMP:20260421T193711
CREATED:20260109T025923Z
LAST-MODIFIED:20260109T030130Z
UID:25577-1770537600-1770570000@jccwa.org.au
SUMMARY:JNF Green Sunday
DESCRIPTION:Volunteer today for Israel’s tomorrow
URL:https://jccwa.org.au/event/jnf-green-sunday/
LOCATION:Perth\, Perth\, Australia
ATTACH;FMTTYPE=image/jpeg:https://jccwa.org.au/wp-content/uploads/2026/01/JNF-event-Feb-8-2026.jpg
END:VEVENT
BEGIN:VEVENT
DTSTART;TZID=UTC:20260208T190000
DTEND;TZID=UTC:20260208T210000
DTSTAMP:20260421T193711
CREATED:20260204T020837Z
LAST-MODIFIED:20260204T021113Z
UID:25592-1770577200-1770584400@jccwa.org.au
SUMMARY:SZC New Country\, New Options
DESCRIPTION:Join for a zoom Q&A session on how to keep or reinvent your career in Israel with Maya Shofel\, career consultant & placement specialist
URL:https://jccwa.org.au/event/szc-new-country-new-options/
LOCATION:Perth\, Perth\, Australia
ATTACH;FMTTYPE=image/jpeg:https://jccwa.org.au/wp-content/uploads/2026/02/SZF-8-Feb-2026.jpeg
ORGANIZER;CN="State Zionist Council of WA":MAILTO:office@szcwa.com.au
END:VEVENT
BEGIN:VEVENT
DTSTART;TZID=UTC:20260226T183000
DTEND;TZID=UTC:20260226T213000
DTSTAMP:20260421T193711
CREATED:20260205T045344Z
LAST-MODIFIED:20260205T045344Z
UID:25627-1772130600-1772141400@jccwa.org.au
SUMMARY:UIA 2026 Gala
DESCRIPTION:United Israel and Australia – One People. One Heart. Standing Together.\nWith pride\, we announce our headline speaker – Ron Dermer\, Former Minister of Strategic Affairs of Israel and one of the most influential figures in shaping Israel-U.S. relations over the past decade. \nDermer has long been viewed as the key insider conduit between the Israeli and U.S. administrations—shaping Israel’s foreign policy over the past decade more than perhaps any other individual. He played a pivotal role in aligning Israeli–U.S. policy\, serving as the only Israeli official in the room with President Trump during discussions on post-war plans for Gaza\, and was instrumental in accelerating the path toward the Abraham Accords. Most critically\, in 2025 he was entrusted with leading Israel’s negotiations for the release of hostages—one of the most sensitive\, morally complex\, and consequential missions facing the country. It is therefore fitting that Dermer joins us at this historic moment of collective rebuilding\, as Israel looks toward securing its future. \nJoining Dermer is Michal Uziyahu – Mayor of the Eshkol Regional Council. Michal is no stranger to UIA\, visiting immediately after October 7 to urgently call for support for her devastated communities – enabling critical rehabilitation and community resilience programs on the ground. Michal returns to share firsthand how UIA’s support helped her region begin to heal and how ironically Israel now is able to ‘give back’ and support our community\, as well as why the rest of Israel now needs that same unwavering commitment as the nation enters its long-term rebuilding. \nWHEN\nThursday 26 February \n6:30pm Doors open\n7:15pm Formalities commence \nWHERE\nVenue to be advised a few days prior to the event \nCOST\n$36 Earlybird until 5 February and then $54. \nTickets are non transferable and non refundable. \nThis is a fundraising event. The ticket cost is not a donation. Funds raised at this event will enable United Israel Appeal (UIA) to continue its 105-year mission.
URL:https://jccwa.org.au/event/uia-2026-gala/
LOCATION:Perth\, Perth\, Australia
ATTACH;FMTTYPE=image/png:https://jccwa.org.au/wp-content/uploads/2026/02/UIA-2026-Gala.png
ORGANIZER;CN="UIA WA":MAILTO:info@uiawa.org.au
END:VEVENT
BEGIN:VEVENT
DTSTART;TZID=UTC:20260228T200000
DTEND;TZID=UTC:20260228T230000
DTSTAMP:20260421T193711
CREATED:20260115T060457Z
LAST-MODIFIED:20260115T060457Z
UID:25582-1772308800-1772319600@jccwa.org.au
SUMMARY:Royal Purim Ball 2026
DESCRIPTION:Hosted by His Majesty Achashverosh\, King of Persia (and the UIA) \nStep into the palace of Shushan for a Purim celebration like no other. This year\, the King is pulling out all the stops and enough royal chaos to make history. \nWhether you arrive as royalty\, a rebel\, or something completely unhinged\, prepare for a night of Persian glamour\, festive mischief\, and non-stop dancing shannanigans. \nYour Ticket Includes: \n\nFreo pizza are bringing their pizza oven to dish out their delicious Kosher pizza\n1 Alcoholic Beverage + Unlimited Soft Drink\nHuge Costume Contest – Prizes fit for royalty — bring your A-game.\nDJ with Live on DJ Music Performance\nAnd much\, MUCH more…\n\nExpect high-energy dancing\, bass that shakes the palace\, and a show the King personally approved. Surprises\, special moments\, and royal drama guaranteed. \nSo secure your ticket\, prepare your costume\, get the babysitter booked and show up for the most unforgettable Purim party in Shushan (AKA Perth). The King expects your presence — don’t make him send the royal guards.
URL:https://jccwa.org.au/event/royal-purim-ball-2026/
LOCATION:Perth\, Perth\, Australia
ATTACH;FMTTYPE=image/jpeg:https://jccwa.org.au/wp-content/uploads/2026/01/Purim-2026.jpeg
ORGANIZER;CN="UIA WA":MAILTO:info@uiawa.org.au
END:VEVENT
BEGIN:VEVENT
DTSTART;TZID=UTC:20260301T193000
DTEND;TZID=UTC:20260301T220000
DTSTAMP:20260421T193711
CREATED:20260204T115636Z
LAST-MODIFIED:20260204T115636Z
UID:25611-1772393400-1772402400@jccwa.org.au
SUMMARY:UIA's Royal Purim Ball - Teen Edition
DESCRIPTION:Royal Purim Ball | Teen Edition (Yrs 9 – 12 welcome)\nJoin us for a Purim celebration just for teens. \nThis year\, we’re celebrating Purim with a night inspired by the royal palace of Shushan – bringing people together through music\, culture\, and a safe\, joyful atmosphere. \nWhat’s in store:\n🎧 DJ Shira will be on the decks all night\, bringing the energy from first track to last.\n🕢 Time: 7:30pm – 10:00pm\n👥 Who: All teens in Years 9 – 12 welcome \nWhat’s included:\n🍕 1 x Freo pizza served throughout the night\n🥤 1 x Soft drink + 1 x Slushie\n🎶 Fresh beats all night\n🛡 CSG security onsite to ensure a safe and welcoming environment for everyone\n* Pizza and drinks can be purchased at the venue – we accept card only! \nThis is a supervised\, alcohol-free event designed for teens to enjoy Purim with friends\, music\, costumes\, and great vibes – all in a secure and supportive space. \n👑 Dress up\, bring your crew\, and get ready for a royal Purim night you won’t forget. \nBrought to you by: Local parent Initiative\, Bnei Akiva\, Habonim Dror and the UIA
URL:https://jccwa.org.au/event/uias-royal-purim-ball-teen-edition/
LOCATION:Perth\, Perth\, Australia
ATTACH;FMTTYPE=image/webp:https://jccwa.org.au/wp-content/uploads/2026/02/UIA-purim-teen-2026.webp
ORGANIZER;CN="UIA WA":MAILTO:info@uiawa.org.au
END:VEVENT
BEGIN:VEVENT
DTSTART;TZID=UTC:20260303T093000
DTEND;TZID=UTC:20260303T113000
DTSTAMP:20260421T193711
CREATED:20260127T024014Z
LAST-MODIFIED:20260127T024014Z
UID:25588-1772530200-1772537400@jccwa.org.au
SUMMARY:Toddler & Pre-Kindy Purim Carnival 2026!
DESCRIPTION:🌈🧸 Toddler & Pre-Kindy Purim Party 🎭🎈 \nWe’re so excited to invite our youngest community members to a gorgeous\, joy-filled Toddler & Pre-Kindy Purim Party 🎉💕\nDesigned especially for toddlers and pre-Kindy children\, this playful celebration will include:\n🏰 Bouncy castle\n🫧 Bubbleology\n🎈 Balloon twisting\n🎭 A fun costume parade\n🏆 Prizes for our little stars\n🍪 Food & tasty treats\n✨ Plus plenty of Purim surprises! \nCome in costume 👑🤡\, bring your smiles 😄\, and celebrate Purim with us in bright\, playful style — full of colour 🌈\, joy 💖 and heart ✨ \nChag Purim Sameach! 🥳🎭 \nPlease Note:\nThis event is designed for toddlers and pre-Kindy children. Children must be supervised by a responsible adult at all times. \nPhotographs and short video footage may be taken during the event for use on Maccabi WA / JHub community social media and promotional materials. If you prefer that your child is not included in any images or footage\, please contact us in advance — we are very happy to accommodate. \nPrams & Strollers:\nOur little Purim stars love lots of space to run\, jump\, and dance! To keep the party safe and fun for everyone\, please park prams and strollers in the designated area near the entrance rather than bringing them into the main play space.
URL:https://jccwa.org.au/event/toddler-pre-kindy-purim-carnival-2026/
LOCATION:Perth\, Perth\, Australia
ATTACH;FMTTYPE=image/png:https://jccwa.org.au/wp-content/uploads/2026/01/Maccabi-Purim-event.png
ORGANIZER;CN="Maccabi WA":MAILTO:admin.wa@maccabi.com.au
END:VEVENT
BEGIN:VEVENT
DTSTART;TZID=UTC:20260305T190000
DTEND;TZID=UTC:20260305T203000
DTSTAMP:20260421T193711
CREATED:20260304T012323Z
LAST-MODIFIED:20260304T012518Z
UID:25649-1772737200-1772742600@jccwa.org.au
SUMMARY:Practicing What We Teach: Faith & Psychological Strength After Trauma
DESCRIPTION:A mother’s grief\, a psychologist’s strength\, a believer’s faith \nThursday\, 7PM
URL:https://jccwa.org.au/event/practicing-what-we-teach-faith-psychological-strength-after-trauma/
LOCATION:Perth\, Perth\, Australia
ATTACH;FMTTYPE=image/jpeg:https://jccwa.org.au/wp-content/uploads/2026/03/chabbad-Renee.jpeg
END:VEVENT
BEGIN:VEVENT
DTSTART;TZID=UTC:20260317T193000
DTEND;TZID=UTC:20260317T210000
DTSTAMP:20260421T193711
CREATED:20260223T070814Z
LAST-MODIFIED:20260304T004416Z
UID:25636-1773775800-1773781200@jccwa.org.au
SUMMARY:NAIN: The Allies for a Strong Australia
DESCRIPTION:In a time of rising antisemitism and growing division\, NAIN are expanding their national movement. \nTue 17/03/2026 \n7.30pm
URL:https://jccwa.org.au/event/nain-the-allies-for-a-strong-australia/
LOCATION:Perth\, Perth\, Australia
ATTACH;FMTTYPE=image/jpeg:https://jccwa.org.au/wp-content/uploads/2026/02/NAIN-Nova.jpg
ORGANIZER;CN="Never Again Is Now":MAILTO:Melanie@neveragainisnow.com.au
END:VEVENT
BEGIN:VEVENT
DTSTART;TZID=UTC:20260318T100000
DTEND;TZID=UTC:20260318T120000
DTSTAMP:20260421T193711
CREATED:20260304T005249Z
LAST-MODIFIED:20260304T005249Z
UID:25646-1773828000-1773835200@jccwa.org.au
SUMMARY:Menora Coffee Club
DESCRIPTION:Menora Coffee Club with a special Guest: Yuval Berman\, PhD student at the university of Western Australia
URL:https://jccwa.org.au/event/menora-coffee-club/
LOCATION:Perth\, Perth\, Australia
ATTACH;FMTTYPE=image/jpeg:https://jccwa.org.au/wp-content/uploads/2026/03/Menora-Coffee-Club.jpeg
ORGANIZER;CN="Menora Foundation":MAILTO:office@menora.org.au
END:VEVENT
BEGIN:VEVENT
DTSTART;TZID=UTC:20260319T180000
DTEND;TZID=UTC:20260319T210000
DTSTAMP:20260421T193711
CREATED:20260205T045533Z
LAST-MODIFIED:20260304T032456Z
UID:25630-1773943200-1773954000@jccwa.org.au
SUMMARY:UIA Women's Division: A New Horizon
DESCRIPTION:The UIA Women’s Division believes in the transformative power of women supporting women. When passionate\, intelligent women unite around a shared cause\, extraordinary things happen. We call it intuitive philanthropy. Gather with the women of Perth for a meaningful evening of connection and purpose\, as we continue to support and strengthen the most at-risk women and children in Israel.
URL:https://jccwa.org.au/event/save-the-date-uia-womens-division-event/
LOCATION:Perth\, Perth\, Australia
ATTACH;FMTTYPE=image/png:https://jccwa.org.au/wp-content/uploads/2026/02/UIA-WD-19-March.png
ORGANIZER;CN="UIA WA":MAILTO:info@uiawa.org.au
END:VEVENT
BEGIN:VEVENT
DTSTART;TZID=UTC:20260329T160000
DTEND;TZID=UTC:20260329T180000
DTSTAMP:20260421T193711
CREATED:20260317T010152Z
LAST-MODIFIED:20260317T010152Z
UID:25700-1774800000-1774807200@jccwa.org.au
SUMMARY:Rabbi De Coleman CBE AM Fund Celebration by MZH
DESCRIPTION:Join for canapes and light refreshments in celebrations of the establishment of the Rabbi Dr Shalom Coleman CBE AM Fund \nSunday 29 March 2026
URL:https://jccwa.org.au/event/rabbi-de-coleman-cbe-am-fund-celebration-by-mzh/
LOCATION:Perth\, Perth\, Australia
ATTACH;FMTTYPE=image/jpeg:https://jccwa.org.au/wp-content/uploads/2026/03/MZH-event.jpg
END:VEVENT
BEGIN:VEVENT
DTSTART;TZID=UTC:20260415T100000
DTEND;TZID=UTC:20260415T120000
DTSTAMP:20260421T193711
CREATED:20260324T050936Z
LAST-MODIFIED:20260324T050936Z
UID:25704-1776247200-1776254400@jccwa.org.au
SUMMARY:Menora Coffee Club
DESCRIPTION:Menora coffee club hosting Oded Fromovitz \nIn the special session\, held in spirit of Yom Hazikaron\, Oded will share the personal story of his brother who fell during the Lebanon war in 1998. \nWhen? April 15th 2026\, 10am-12pm
URL:https://jccwa.org.au/event/menora-coffee-club-2/
LOCATION:Perth\, Perth\, Australia
ATTACH;FMTTYPE=image/jpeg:https://jccwa.org.au/wp-content/uploads/2026/03/Menora-Coffee-Club-April-2026.jpeg
ORGANIZER;CN="Menora Foundation":MAILTO:office@menora.org.au
END:VEVENT
BEGIN:VEVENT
DTSTART;TZID=UTC:20260426T110000
DTEND;TZID=UTC:20260426T140000
DTSTAMP:20260421T193711
CREATED:20260407T050307Z
LAST-MODIFIED:20260407T050307Z
UID:25708-1777201200-1777212000@jccwa.org.au
SUMMARY:Something beautiful is coming 🎨
DESCRIPTION:Join us for a special exhibition showcasing artwork created by participants from across the community\, through Menora’s art classes \n\nReal people\, real creativity and pieces you can actually take home\n\n📅 Sunday\, April 26th\n⏰ 11:00-14:00\n\nCome through\, support local and see what’s been created\n\nRegistration required
URL:https://jccwa.org.au/event/something-beautiful-is-coming-%f0%9f%8e%a8/
LOCATION:Perth\, Perth\, Australia
ATTACH;FMTTYPE=image/jpeg:https://jccwa.org.au/wp-content/uploads/2026/04/Art-exhibtion-flyer-Menora.jpeg
ORGANIZER;CN="Menora Foundation":MAILTO:office@menora.org.au
END:VEVENT
BEGIN:VEVENT
DTSTART;TZID=UTC:20260429T170000
DTEND;TZID=UTC:20260429T183000
DTSTAMP:20260421T193711
CREATED:20260420T071057Z
LAST-MODIFIED:20260420T071057Z
UID:25712-1777482000-1777487400@jccwa.org.au
SUMMARY:Community Support Group
DESCRIPTION:You’re Not Alone \nCommunity Support in Challenging Times \nThe events of October 7 and the ongoing war\, along with rising antisemitism\, have deeply impacted our Jewish community. Many people are carrying complex emotions: fear\, grief\, anger\, shock\, confusion\, and ongoing anxiety. \nFollowing the overwhelming response and success of our previous group\, we’re opening a new one. \nWe are offering a free\, professionally facilitated support group for Jewish community members who would like a safe\, respectful space to process these experiences together. \nWhat’s offered: \n• 6 structured support group sessions\n• A safe and confidential space to share\, listen\, and reflect\n• Emotional support\, grounding tools\, and connection with others who understand\n• Facilitated by experienced professionals \nWho is this for?\nJewish adults (18+) who are feeling emotionally affected by recent events and would benefit from community-based support.
URL:https://jccwa.org.au/event/community-support-group/
LOCATION:Perth\, Perth\, Australia
ATTACH;FMTTYPE=image/png:https://jccwa.org.au/wp-content/uploads/2026/04/Menora-Support-group-April.png
ORGANIZER;CN="Menora Foundation":MAILTO:office@menora.org.au
END:VEVENT
END:VCALENDAR