BEGIN:VCALENDAR
VERSION:2.0
PRODID:-//JCC WA | Jewish Community Council of Western Australia - ECPv6.15.17//NONSGML v1.0//EN
CALSCALE:GREGORIAN
METHOD:PUBLISH
X-WR-CALNAME:JCC WA | Jewish Community Council of Western Australia
X-ORIGINAL-URL:https://jccwa.org.au
X-WR-CALDESC:Events for JCC WA | Jewish Community Council of Western Australia
REFRESH-INTERVAL;VALUE=DURATION:PT1H
X-Robots-Tag:noindex
X-PUBLISHED-TTL:PT1H
BEGIN:VTIMEZONE
TZID:UTC
BEGIN:STANDARD
TZOFFSETFROM:+0000
TZOFFSETTO:+0000
TZNAME:UTC
DTSTART:20240101T000000
END:STANDARD
END:VTIMEZONE
BEGIN:VEVENT
DTSTART;TZID=UTC:20260226T183000
DTEND;TZID=UTC:20260226T213000
DTSTAMP:20260421T171101
CREATED:20260205T045344Z
LAST-MODIFIED:20260205T045344Z
UID:25627-1772130600-1772141400@jccwa.org.au
SUMMARY:UIA 2026 Gala
DESCRIPTION:United Israel and Australia – One People. One Heart. Standing Together.\nWith pride\, we announce our headline speaker – Ron Dermer\, Former Minister of Strategic Affairs of Israel and one of the most influential figures in shaping Israel-U.S. relations over the past decade. \nDermer has long been viewed as the key insider conduit between the Israeli and U.S. administrations—shaping Israel’s foreign policy over the past decade more than perhaps any other individual. He played a pivotal role in aligning Israeli–U.S. policy\, serving as the only Israeli official in the room with President Trump during discussions on post-war plans for Gaza\, and was instrumental in accelerating the path toward the Abraham Accords. Most critically\, in 2025 he was entrusted with leading Israel’s negotiations for the release of hostages—one of the most sensitive\, morally complex\, and consequential missions facing the country. It is therefore fitting that Dermer joins us at this historic moment of collective rebuilding\, as Israel looks toward securing its future. \nJoining Dermer is Michal Uziyahu – Mayor of the Eshkol Regional Council. Michal is no stranger to UIA\, visiting immediately after October 7 to urgently call for support for her devastated communities – enabling critical rehabilitation and community resilience programs on the ground. Michal returns to share firsthand how UIA’s support helped her region begin to heal and how ironically Israel now is able to ‘give back’ and support our community\, as well as why the rest of Israel now needs that same unwavering commitment as the nation enters its long-term rebuilding. \nWHEN\nThursday 26 February \n6:30pm Doors open\n7:15pm Formalities commence \nWHERE\nVenue to be advised a few days prior to the event \nCOST\n$36 Earlybird until 5 February and then $54. \nTickets are non transferable and non refundable. \nThis is a fundraising event. The ticket cost is not a donation. Funds raised at this event will enable United Israel Appeal (UIA) to continue its 105-year mission.
URL:https://jccwa.org.au/event/uia-2026-gala/
LOCATION:Perth\, Perth\, Australia
ATTACH;FMTTYPE=image/png:https://jccwa.org.au/wp-content/uploads/2026/02/UIA-2026-Gala.png
ORGANIZER;CN="UIA WA":MAILTO:info@uiawa.org.au
END:VEVENT
BEGIN:VEVENT
DTSTART;TZID=UTC:20260208T190000
DTEND;TZID=UTC:20260208T210000
DTSTAMP:20260421T171101
CREATED:20260204T020837Z
LAST-MODIFIED:20260204T021113Z
UID:25592-1770577200-1770584400@jccwa.org.au
SUMMARY:SZC New Country\, New Options
DESCRIPTION:Join for a zoom Q&A session on how to keep or reinvent your career in Israel with Maya Shofel\, career consultant & placement specialist
URL:https://jccwa.org.au/event/szc-new-country-new-options/
LOCATION:Perth\, Perth\, Australia
ATTACH;FMTTYPE=image/jpeg:https://jccwa.org.au/wp-content/uploads/2026/02/SZF-8-Feb-2026.jpeg
ORGANIZER;CN="State Zionist Council of WA":MAILTO:office@szcwa.com.au
END:VEVENT
BEGIN:VEVENT
DTSTART;TZID=UTC:20260208T080000
DTEND;TZID=UTC:20260208T170000
DTSTAMP:20260421T171101
CREATED:20260109T025923Z
LAST-MODIFIED:20260109T030130Z
UID:25577-1770537600-1770570000@jccwa.org.au
SUMMARY:JNF Green Sunday
DESCRIPTION:Volunteer today for Israel’s tomorrow
URL:https://jccwa.org.au/event/jnf-green-sunday/
LOCATION:Perth\, Perth\, Australia
ATTACH;FMTTYPE=image/jpeg:https://jccwa.org.au/wp-content/uploads/2026/01/JNF-event-Feb-8-2026.jpg
END:VEVENT
BEGIN:VEVENT
DTSTART;TZID=UTC:20251221T093000
DTEND;TZID=UTC:20251221T103000
DTSTAMP:20260421T171101
CREATED:20251219T063320Z
LAST-MODIFIED:20251219T063320Z
UID:25572-1766309400-1766313000@jccwa.org.au
SUMMARY:Women From all Backgrounds
DESCRIPTION:Join NCJWA & NCJWA WA\, together with women from all backgrounds\, as we unite in solidarity with our sister organisations to mark one week since the Chenukah terror tragedy at Bondi Beach. \nWomen & men are invited. \nSunday 21st of December 2025\, 9.30am
URL:https://jccwa.org.au/event/women-from-all-backgrounds/
LOCATION:Perth\, Perth\, Australia
ATTACH;FMTTYPE=image/jpeg:https://jccwa.org.au/wp-content/uploads/2025/12/NCJWA-event-Dec.jpeg
END:VEVENT
BEGIN:VEVENT
DTSTART;TZID=UTC:20251217T183000
DTEND;TZID=UTC:20251217T210000
DTSTAMP:20260421T171101
CREATED:20251203T063258Z
LAST-MODIFIED:20251203T063258Z
UID:25330-1765996200-1766005200@jccwa.org.au
SUMMARY:UIA WA Women's Division Premiere Screening: The Road Between Us
DESCRIPTION:Join UIA Women’s Division WA for this premier screening of The Road Between Us: The Ultimate Rescue. \nThis film\, featuring new interviews and footage\, premiered in Toronto where it won the People’s Choice Award for Best Documentary. It recounts how retired general Noam Tibon journeyed from Tel Aviv to the Nahal Oz Kibbutz to rescue his son and his family on October 7 2023. Produced by renowned Canadian filmmaker Barry Avrich\, this work crafts this film as a rescue thriller\, as Noam retraces the steps of his true-life journey on that day.
URL:https://jccwa.org.au/event/uia-wa-womens-division-premiere-screening-the-road-between-us/
ATTACH;FMTTYPE=image/jpeg:https://jccwa.org.au/wp-content/uploads/2025/12/Noam-Tibon-the-Road-Between-Us-UIA-event.jpg
ORGANIZER;CN="UIA WA":MAILTO:info@uiawa.org.au
END:VEVENT
BEGIN:VEVENT
DTSTART;TZID=UTC:20251215T173000
DTEND;TZID=UTC:20251215T200000
DTSTAMP:20260421T171101
CREATED:20251208T033439Z
LAST-MODIFIED:20251208T033439Z
UID:25373-1765819800-1765828800@jccwa.org.au
SUMMARY:Channukah in the Park
DESCRIPTION:Join Chabbad in Chanukah celebration and lighting the Menora! \n15.12.2025 @5.30pm. \nMenora lighting at 6.30pm
URL:https://jccwa.org.au/event/channukah-in-the-park/
LOCATION:Raoul Wallenberg Reserve
ATTACH;FMTTYPE=image/jpeg:https://jccwa.org.au/wp-content/uploads/2025/12/Chabbad-Event-.jpg
END:VEVENT
BEGIN:VEVENT
DTSTART;TZID=UTC:20251214T163000
DTEND;TZID=UTC:20251214T193000
DTSTAMP:20260421T171101
CREATED:20251203T062124Z
LAST-MODIFIED:20251203T062124Z
UID:25325-1765729800-1765740600@jccwa.org.au
SUMMARY:Community Chanuka Celebration
DESCRIPTION:Sunday 14 Dec 16:30-19:30 – \nLots of fun for everyone \nFood\, drinks\, Slushies and more ! \nFree entry for children under 12 \n  \n 
URL:https://jccwa.org.au/event/community-chanuka-celebration/
ATTACH;FMTTYPE=image/jpeg:https://jccwa.org.au/wp-content/uploads/2025/12/jcc-event.jpg
END:VEVENT
BEGIN:VEVENT
DTSTART;TZID=UTC:20251207T160000
DTEND;TZID=UTC:20251207T190000
DTSTAMP:20260421T171101
CREATED:20251205T020249Z
LAST-MODIFIED:20251205T020249Z
UID:25350-1765123200-1765134000@jccwa.org.au
SUMMARY:NCJWA's JIFF Movie Night
DESCRIPTION:Featured film: Blue Moon \n@Luna Leederville\, 155 Oxford St\, Leederville \nRSVP to Jenny on 0405069447 \nPayment through bank transfer to: NCJWA WA \nBSB 066 118 \nAccount No. 00900220
URL:https://jccwa.org.au/event/ncjwas-jiff-movie-night/
ATTACH;FMTTYPE=image/jpeg:https://jccwa.org.au/wp-content/uploads/2025/12/NCJA-movie-night-event.jpg
END:VEVENT
BEGIN:VEVENT
DTSTART;TZID=UTC:20251207T070000
DTEND;TZID=UTC:20251207T120000
DTSTAMP:20260421T171101
CREATED:20251203T064751Z
LAST-MODIFIED:20251205T034614Z
UID:25342-1765090800-1765108800@jccwa.org.au
SUMMARY:Menora's Garage Sale
DESCRIPTION:
URL:https://jccwa.org.au/event/menora-garage-sale/
ATTACH;FMTTYPE=image/png:https://jccwa.org.au/wp-content/uploads/2025/12/Menora-Warehouse-image.png
ORGANIZER;CN="Menora Foundation":MAILTO:office@menora.org.au
END:VEVENT
BEGIN:VEVENT
DTSTART;TZID=UTC:20251201T080000
DTEND;TZID=UTC:20251201T170000
DTSTAMP:20260421T171101
CREATED:20251128T023522Z
LAST-MODIFIED:20251128T025035Z
UID:25258-1764576000-1764608400@jccwa.org.au
SUMMARY:test
DESCRIPTION:test33
URL:https://jccwa.org.au/event/test-2/
LOCATION:Perth\, Perth\, Australia
CATEGORIES:Children
ATTACH;FMTTYPE=image/svg+xml:https://jccwa.org.au/wp-content/uploads/2025/11/jcc-wa-21.svg
ORGANIZER;CN="AUJS":MAILTO:info@aujs.com.au
END:VEVENT
BEGIN:VEVENT
DTSTART;TZID=UTC:20251130T093000
DTEND;TZID=UTC:20251130T230000
DTSTAMP:20260421T171101
CREATED:20251127T000051Z
LAST-MODIFIED:20251128T023940Z
UID:24704-1764495000-1764543600@jccwa.org.au
SUMMARY:test
DESCRIPTION:this is test
URL:https://jccwa.org.au/event/test/
CATEGORIES:Helping
ATTACH;FMTTYPE=image/jpeg:https://jccwa.org.au/wp-content/uploads/2025/11/2b03798c0252a63fd2054ff7fb0c4553342f27d2-4x3-x0y623w2667h2000.jpg
END:VEVENT
END:VCALENDAR